BEGIN:VCALENDAR
VERSION:2.0
PRODID:-//hacksw/handcal//NONSGML v1.0//EN
BEGIN:VEVENT
DTSTART:20170424T170000
DTEND:20170424T200000
LOCATION:
ORGANIZER;CN=ESSEC Alumni - Automobile & Mobilité:MAILTO:alumni-contact@essec.edu
SUMMARY:Le véhicule autonome : du rêve à la réalité ?
DESCRIPTION:ESSEC Alumni Automobile Club en alliance avec le Club X-Auto de l’Ecole Polytechnique, a le plaisir de vous convier vous invite vivement à vous inscrire à une conférence sur le thème : « Le véhicule...
URL:https://www.essecalumni.com/en/group/automobile-mobilite/48/calendar/le-vehicule-autonome-du-reve-a-la-realite/2017/04/24/1045
BEGIN:VALARM
TRIGGER:-P0DT1H0M0S
ACTION:DISPLAY
END:VALARM
END:VEVENT
END:VCALENDAR