BEGIN:VCALENDAR
VERSION:2.0
PRODID:-//hacksw/handcal//NONSGML v1.0//EN
BEGIN:VEVENT
DTSTART:20190212T110000
DTEND:20190212T140000
LOCATION:
ORGANIZER;CN=ESSEC Alumni - Midi-Pyrénées:MAILTO:alumni-contact@essec.edu
SUMMARY:Dej'ESSEC Midi-Pyrénées
DESCRIPTION:ESSEC Midi-Pyrénées a le plaisir de te convier à son premier déjeuner ESSEC Midi-Pyrénées de l'année 2019 qui se déroulera le:\nMardi 12 février à partir de 12h00\n(début du service à 12h30)\nau Caffe...
URL:https://www.essecalumni.com/en/group/midi-pyrenees/84/calendar/dej-essec-midi-pyrenees/2019/02/12/1828
BEGIN:VALARM
TRIGGER:-P0DT1H0M0S
ACTION:DISPLAY
END:VALARM
END:VEVENT
END:VCALENDAR