BEGIN:VCALENDAR
VERSION:2.0
PRODID:-//hacksw/handcal//NONSGML v1.0//EN
BEGIN:VEVENT
DTSTART:20191114T193000
DTEND:20191114T220000
LOCATION:Le Barlone \n13 rue Bergère \n78009 Paris
ORGANIZER;CN=ESSEC Alumni - Promotion 2008:MAILTO:alumni-contact@essec.edu
SUMMARY:Apéro de Promo 2008
DESCRIPTION:L'équipe des délégués de la promo 2008 vous invite au premierApéritif de promoJeudi 14 novembreAu bar Le Barlone13 Rue Bergère75009 Paris\nESSEC Alumni a rassemblé les étudiants selon leur année...
URL:https://www.essecalumni.com/en/group/promotion-2008/248/calendar/apero-de-promo-2008/2019/11/14/2066
BEGIN:VALARM
TRIGGER:-P0DT1H0M0S
ACTION:DISPLAY
END:VALARM
END:VEVENT
END:VCALENDAR