BEGIN:VCALENDAR
VERSION:2.0
PRODID:-//hacksw/handcal//NONSGML v1.0//EN
BEGIN:VEVENT
DTSTART:20200521T190000
DTEND:20200521T203000
LOCATION:Online
ORGANIZER;CN=Anna DAVIAU - Spain /Espagne - Barcelona / Barcelone:MAILTO:anna.daviau@gmail.com
SUMMARY:How did you adapt to the COVID-19 crisis and how do you prepare the recovery? Share your best practices and solutions!
DESCRIPTION:Digital Collaborative Workshop:'Share the good practices implemented in recent weeks as well as the solutions envisaged for the recovery, from a personal and professional point of view'\nWhen: [NEW...
URL:https://www.essecalumni.com/en/group/spain-espagne-barcelona-barcelone/337/calendar/how-did-you-adapt-to-the-covid-19-crisis-and-how-do-you-prepare-the-recovery-share-your-best-practices-and-solutions/2020/05/21/2339
BEGIN:VALARM
TRIGGER:-P0DT1H0M0S
ACTION:DISPLAY
END:VALARM
END:VEVENT
END:VCALENDAR