BEGIN:VCALENDAR
VERSION:2.0
PRODID:-//hacksw/handcal//NONSGML v1.0//EN
BEGIN:VEVENT
DTSTART:20200924T193000
DTEND:20200924T210000
LOCATION:
ORGANIZER;CN=Christine MALPART - ESSEC Women Alumni:MAILTO:christine.malpart@gmail.com
SUMMARY:Soirée de lancement EWA Boost' 2020
DESCRIPTION:Pour la 6ème année consécutive, le club pro ESSEC Women Alumni lance une nouvelle promotion de Mentoring pour 26 femmes en quête d'inspiration et de ressourcement dans leur parcours professionnel.\nLa...
URL:https://www.essecalumni.com/en/group/essec-women-alumni/59/calendar/soiree-de-lancement-ewa-boost-2020/2020/09/24/2519
BEGIN:VALARM
TRIGGER:-P0DT1H0M0S
ACTION:DISPLAY
END:VALARM
END:VEVENT
END:VCALENDAR