BEGIN:VCALENDAR
VERSION:2.0
PRODID:-//hacksw/handcal//NONSGML v1.0//EN
BEGIN:VEVENT
DTSTART:20230302T173000Z
DTEND:20230302T190000Z
LOCATION:https://us02web.zoom.us/j/3810697601
ORGANIZER;CN=Manon Verjat - Santé (Health):MAILTO:manon.verjat@essec.edu
SUMMARY:Webinaire ~ Présentation du Mentorat 2023 du Club ESSEC Santé
DESCRIPTION:Chers ESSEC, Nous avons le plaisir de vous convier à notre prochain webinaire qui sera dédié à la présentation de notre programme de Mentorat 2023 ! Jeudi 02 mars, de 18h30 à 20hVia Zoom Le mentorat, ...
URL:https://www.essecalumni.com/en/group/sante-health/65/calendar/webinaire-presentation-du-mentorat-2023-du-club-essec-sante/2023/03/02/4654
BEGIN:VALARM
TRIGGER:-P0DT1H0M0S
ACTION:DISPLAY
END:VALARM
END:VEVENT
END:VCALENDAR