BEGIN:VCALENDAR
VERSION:2.0
PRODID:-//hacksw/handcal//NONSGML v1.0//EN
BEGIN:VEVENT
DTSTART:20241128T173000Z
DTEND:20241128T203000Z
LOCATION:Maison des ESSEC
ORGANIZER;CN=Sounya Kiniffo:MAILTO:sounya.kiniffo@essec.edu
SUMMARY:Atelier 2tonnes : l'atelier immersif pour explorer le futur et agir ensemble pour le climat !
DESCRIPTION:Le jeudi 28 novembre de 18h30 à 21h30En présentiel,  à la Maison des ESSEC, au 11 avenue de Friedland, 75008 Paris - Métro George V\nL'ATELIER 2TONNES, QU'EST-CE QUE C'EST ?Il s'agit d'un atelier...
URL:https://www.essecalumni.com/en/event/atelier-2tonnes-l-atelier-immersif-pour-explorer-le-futur-et-agir-ensemble-pour-le-climat/2024/11/28/5629
BEGIN:VALARM
TRIGGER:-P0DT1H0M0S
ACTION:DISPLAY
END:VALARM
END:VEVENT
END:VCALENDAR