BEGIN:VCALENDAR
VERSION:2.0
PRODID:-//hacksw/handcal//NONSGML v1.0//EN
BEGIN:VEVENT
DTSTART:20240206T163000Z
DTEND:20240206T190000Z
LOCATION:Kastellet \n25, Hegdehaugsveien \n0352 OSLO
ORGANIZER;CN=Matthieu Colet - Norway / Norvège:MAILTO:matthieu.colet@essec.edu
SUMMARY:Networking HEC x Sciences Po x ESSEC x INSEAD
DESCRIPTION:Dear ESSEC Alumnis in Norway,\nWe had to postpone last week’s event due to weather conditions.\nLuckily, we can confirm that you are all invited to a get together ("apéro with tapas")We will share...
URL:https://www.essecalumni.com/en/group/norway-norvege/151/calendar/networking-hec-x-sciences-po-x-essec-x-insead/2024/02/06/5741
BEGIN:VALARM
TRIGGER:-P0DT1H0M0S
ACTION:DISPLAY
END:VALARM
END:VEVENT
END:VCALENDAR