BEGIN:VCALENDAR
VERSION:2.0
PRODID:-//hacksw/handcal//NONSGML v1.0//EN
BEGIN:VEVENT
DTSTART:20240222T073000Z
DTEND:20240222T103000Z
LOCATION:Cabana Bar \n25, Martin Place \n2000 SYDNEY
ORGANIZER;CN=Matthieu Colet - Australia / Australie - New Zealand / Nouvelle Zélande:MAILTO:matthieu.colet@essec.edu
SUMMARY:Get Together in Sydney with French Business Schools and Universities
DESCRIPTION:Bonjour à tous! Hi everyone!\nLet’s welcome the New Year with our first Sydney Get Together of 2024!\nWe are very excited to share that this time around, we are partnering with some other French...
URL:https://www.essecalumni.com/en/group/australia-australie-new-zealand-nouvelle-zelande/138/calendar/get-together-in-sydney-with-french-business-schools-and-universities/2024/02/22/5829
BEGIN:VALARM
TRIGGER:-P0DT1H0M0S
ACTION:DISPLAY
END:VALARM
END:VEVENT
END:VCALENDAR