BEGIN:VCALENDAR
VERSION:2.0
PRODID:-//hacksw/handcal//NONSGML v1.0//EN
BEGIN:VEVENT
DTSTART:20240509T103000Z
DTEND:20240509T140000Z
LOCATION:L'Entrecôte (Customs House) \n70, Collyer Quay
ORGANIZER;CN=Matthieu Colet - Singapore / Singapour:MAILTO:matthieu.colet@essec.edu
SUMMARY:Alumni Network Night with French Grandes Ecoles
DESCRIPTION:Attention, exceptional event not to be missed in May in Singapore as part of the “festival” month of Alumni French Grandes Écoles Singapore!Annual networking by FGE Alumni, for FGE Alumni. Let's all...
URL:https://www.essecalumni.com/en/group/singapore-singapour/131/calendar/alumni-network-night-with-french-grandes-ecoles/2024/05/09/6047
BEGIN:VALARM
TRIGGER:-P0DT1H0M0S
ACTION:DISPLAY
END:VALARM
END:VEVENT
END:VCALENDAR