BEGIN:VCALENDAR
VERSION:2.0
PRODID:-//hacksw/handcal//NONSGML v1.0//EN
BEGIN:VEVENT
DTSTART:20241128T173000Z
DTEND:20241128T203000Z
LOCATION:Maison des ESSEC \n11, Avenue de Friedland \n75008 PARIS
ORGANIZER;CN=Sounya Kiniffo:MAILTO:sounya.kiniffo@essec.edu
SUMMARY:La Fresque de la Biodiversité, une expérience ludique pour agir en faveur de la biodiversité  :bug:
DESCRIPTION:Le jeudi 28 novembre de 18h30 à 21h30En présentiel,  à la Maison des ESSEC, au 11 avenue de Friedland, 75008 Paris - Métro George V\nQu’est-ce que la Fresque de la Biodiversité ?La Fresque de la...
URL:https://www.essecalumni.com/en/event/la-fresque-de-la-biodiversite-une-experience-ludique-pour-agir-en-faveur-de-la-biodiversite-bug/2024/11/28/6085
BEGIN:VALARM
TRIGGER:-P0DT1H0M0S
ACTION:DISPLAY
END:VALARM
END:VEVENT
END:VCALENDAR