BEGIN:VCALENDAR
VERSION:2.0
PRODID:-//hacksw/handcal//NONSGML v1.0//EN
BEGIN:VEVENT
DTSTART:20241107T010000Z
DTEND:20241128T203000Z
LOCATION:Maison des ESSEC  \n11, Avenue de Friedland \n75008 PARIS
ORGANIZER;CN=Sounya Kiniffo:MAILTO:sounya.kiniffo@essec.edu
SUMMARY:FRESKATHON ESSEC Alumni #3 :seedling:
DESCRIPTION: WHAT IS A FRESKATHON ?  \nESSEC Alumni invites you to its third “Freskathon,” a marathon of fresks and other workshops throughout a whole month. This informative and friendly event will help you...
URL:https://www.essecalumni.com/en/event/freskathon-essec-alumni-3-seedling/2024/11/07/6172
BEGIN:VALARM
TRIGGER:-P0DT1H0M0S
ACTION:DISPLAY
END:VALARM
END:VEVENT
END:VCALENDAR