BEGIN:VCALENDAR
VERSION:2.0
PRODID:-//hacksw/handcal//NONSGML v1.0//EN
BEGIN:VEVENT
DTSTART:20240620T170000Z
DTEND:20240620T193000Z
LOCATION:Maison des ESSEC \n11, Avenue de Friedland \n75008 PARIS
ORGANIZER;CN=Astride MADEVADASSE - India in France:MAILTO:madevadasse@gmail.com
SUMMARY:Come practice Yoga and Meditation at the Maison des ESSEC! (CANCELLED)
DESCRIPTION:In collaboration with The Club ESSEC India in France, the school Yoga & Meditation Paris, founded more than 10 years ago by the Scandinavian Yogi Christian Möllenoff, is very happy to invite you to...
URL:https://www.essecalumni.com/en/group/india-in-france/371/calendar/come-practice-yoga-and-meditation-at-the-maison-des-essec-cancelled/2024/06/20/6282
BEGIN:VALARM
TRIGGER:-P0DT1H0M0S
ACTION:DISPLAY
END:VALARM
END:VEVENT
END:VCALENDAR