BEGIN:VCALENDAR
VERSION:2.0
PRODID:-//hacksw/handcal//NONSGML v1.0//EN
BEGIN:VEVENT
DTSTART:20241112T173000Z
DTEND:20241112T210000Z
LOCATION:Maison des ESSEC \n11, Avenue de Friedland \n75008 PARIS
ORGANIZER;CN=Manon Verjat - Industrie:MAILTO:manon.verjat@essec.edu
SUMMARY:Soirée de lancement du Club Industrie : l’industrie face à ses enjeux : décarbonation, énergie… envie !
DESCRIPTION:Chers alumni, \nNous avons le plaisir de vous informer du lancement du Club ESSEC Alumni Industrie !Rejoignez-nous pour une grande soirée de lancement le :Mardi 12 novembre de 18h30 à 22hÀ la Maison...
URL:https://www.essecalumni.com/en/group/industrie/394/calendar/soiree-de-lancement-du-club-industrie-l-industrie-face-a-ses-enjeux-decarbonation-energie-envie/2024/11/12/6479
BEGIN:VALARM
TRIGGER:-P0DT1H0M0S
ACTION:DISPLAY
END:VALARM
END:VEVENT
END:VCALENDAR