BEGIN:VCALENDAR
VERSION:2.0
PRODID:-//hacksw/handcal//NONSGML v1.0//EN
BEGIN:VEVENT
DTSTART:20241030T110000Z
DTEND:20241030T130000Z
LOCATION:R-Studio, Renaissance Kuala Lumpur Hotel & Convention Centre \n5P44+W2 Kuala Lumpur, Federal Territory of Kuala Lumpur, Malaysia
ORGANIZER;CN=Matthieu Colet - Malaysia / Malaisie:MAILTO:matthieu.colet@essec.edu
SUMMARY:MIM Networking Event in Kuala Lumpur
DESCRIPTION:Dear ESSEC Alumni, We would like you to join us at the ESSEC Master in Management (MIM) Networking Event, an exclusive gathering for our School & current MIM students, ESSEC alumni, as well as...
URL:https://www.essecalumni.com/en/group/malaysia-malaisie/134/calendar/mim-networking-event-in-kuala-lumpur/2024/10/30/6523
BEGIN:VALARM
TRIGGER:-P0DT1H0M0S
ACTION:DISPLAY
END:VALARM
END:VEVENT
END:VCALENDAR