BEGIN:VCALENDAR
VERSION:2.0
PRODID:-//hacksw/handcal//NONSGML v1.0//EN
BEGIN:VEVENT
DTSTART:20241129T200000Z
DTEND:20241130T020000Z
LOCATION:Péniche Nix Nox \n13, Port de la Rapée \n75012 PARIS
ORGANIZER;CN=Manon Verjat - Promotion 2004:MAILTO:manon.verjat@essec.edu
SUMMARY:[COMPLET] Soirée Inter-promos ESSEC ~ Promos 2001 à 2006
DESCRIPTION:Chers diplômés, Notre grande soirée dansante Inter-promos ESSEC : années d'intégration entre 1997 et 2003* (promotions 2001 à 2006)  est complète ! \nVous pouvez vous inscrire à la liste d'attente, un...
URL:https://www.essecalumni.com/en/group/promotion-2004/244/calendar/-complet-soiree-inter-promos-essec-promos-2001-a-2006/2024/11/29/6583
BEGIN:VALARM
TRIGGER:-P0DT1H0M0S
ACTION:DISPLAY
END:VALARM
END:VEVENT
END:VCALENDAR