BEGIN:VCALENDAR
VERSION:2.0
PRODID:-//hacksw/handcal//NONSGML v1.0//EN
BEGIN:VEVENT
DTSTART:20241017T073000Z
DTEND:20241017T093000Z
LOCATION:Paragon Hotel \n1, Loftus Street \n2000 SYDNEY
ORGANIZER;CN=Matthieu Colet - Australia / Australie - New Zealand / Nouvelle Zélande:MAILTO:matthieu.colet@essec.edu
SUMMARY:Get Together in Sydney
DESCRIPTION:Bonjour à tous! Hi everyone!Spring has sprung (or has it?) and it's time for our next Get Together in Sydney!Please join us for an afterwork drink at the Paragon beer garden on the 17th October...
URL:https://www.essecalumni.com/en/group/australia-australie-new-zealand-nouvelle-zelande/138/calendar/get-together-in-sydney/2024/10/17/6587
BEGIN:VALARM
TRIGGER:-P0DT1H0M0S
ACTION:DISPLAY
END:VALARM
END:VEVENT
END:VCALENDAR