BEGIN:VCALENDAR
VERSION:2.0
PRODID:-//hacksw/handcal//NONSGML v1.0//EN
BEGIN:VEVENT
DTSTART:20241107T010000Z
DTEND:20241107T040000Z
LOCATION:https://us02web.zoom.us/j/3810697601?omn=83841559183
ORGANIZER;CN=Sounya Kiniffo:MAILTO:sounya.kiniffo@essec.edu
SUMMARY:The New Narrative Collage -  To create a different society, we first need to imagine it :palette:
DESCRIPTION:\nThursday 7th of November \n🕒 Time : 2am (Paris) / 5pm (Los Angeles) / 8pm (New York) / 10 pm (Rio de Janeiro)\n📍 Where : Online, via Zoom (the connection link will be sent to you after registration ...
URL:https://www.essecalumni.com/en/event/the-new-narrative-collage-to-create-a-different-society-we-first-need-to-imagine-it-palette/2024/11/07/6636
BEGIN:VALARM
TRIGGER:-P0DT1H0M0S
ACTION:DISPLAY
END:VALARM
END:VEVENT
END:VCALENDAR