BEGIN:VCALENDAR
VERSION:2.0
PRODID:-//hacksw/handcal//NONSGML v1.0//EN
BEGIN:VEVENT
DTSTART:20241106T123000Z
DTEND:20241106T163000Z
LOCATION:Base navale de Toulon \n83000 Toulon
ORGANIZER;CN=Jeanne Métraud - Défense & sécurité économique:MAILTO:b00808121@essec.edu
SUMMARY:[COMPLET] Visite sur le porte-hélicoptères amphibie (PHA) Tonnerre
DESCRIPTION:Chers membres, 200 mètres de long, plus de 160 hommes d’équipage. Plus qu’un bateau, c’est un outil de projection de forces. Avec Une piste d’aviation et un hangar à bateau, il peut accueillir un...
URL:https://www.essecalumni.com/en/group/defense-securite-economique/55/calendar/-complet-visite-sur-le-porte-helicopteres-amphibie-pha-tonnerre/2024/11/06/6651
BEGIN:VALARM
TRIGGER:-P0DT1H0M0S
ACTION:DISPLAY
END:VALARM
END:VEVENT
END:VCALENDAR