BEGIN:VCALENDAR
VERSION:2.0
PRODID:-//hacksw/handcal//NONSGML v1.0//EN
BEGIN:VEVENT
DTSTART:20241210T173000Z
DTEND:20241210T220000Z
LOCATION:Bibliothèque musicale La Grange-Fleuret \n11 bis, Rue de Vézelay \n75008 PARIS
ORGANIZER;CN=Céline Lévêque - Promotion 1982:MAILTO:celine.leveque@essec.edu
SUMMARY:E82 : un pot "comme à  la maison"
DESCRIPTION:Bonjour à tous,\nQuelques jours avant Noël, nous vous proposons de nous retrouver mardi 10 décembre pour un "pot" dans un endroit MAGNIFIQUE et INSPIRANT, la Bibliothèque Musicale La Grange-Fleuret,...
URL:https://www.essecalumni.com/en/group/promotion-1982/223/calendar/e82-un-pot-comme-a-la-maison/2024/12/10/6732
BEGIN:VALARM
TRIGGER:-P0DT1H0M0S
ACTION:DISPLAY
END:VALARM
END:VEVENT
END:VCALENDAR