BEGIN:VCALENDAR
VERSION:2.0
PRODID:-//hacksw/handcal//NONSGML v1.0//EN
BEGIN:VEVENT
DTSTART:20250320T113000Z
DTEND:20250320T123000Z
LOCATION:https://us02web.zoom.us/j/3810697601?omn=83271177269
ORGANIZER;CN=Sounya Kiniffo:MAILTO:sounya.kiniffo@essec.edu
SUMMARY:Atelier Transition ESSEC Alumni : 1h pour comprendre la parité femme-homme en entreprise avec Chloé Sady (E13)
DESCRIPTION:Cher/es Alumni, \nNous vous proposons  un rendez-vous mensuel : les “Ateliers Transition ESSEC Alumni”.  1 h pour tout comprendre sur un enjeu clé de la transition écologique et/ou sociale. Vous...
URL:https://www.essecalumni.com/en/event/-atelier-transition-essec-alumni-1h-pour-comprendre-la-parite-femme-homme-en-entreprise-avec-chloe-sady-e13/2025/03/20/6894
BEGIN:VALARM
TRIGGER:-P0DT1H0M0S
ACTION:DISPLAY
END:VALARM
END:VEVENT
END:VCALENDAR