BEGIN:VCALENDAR
VERSION:2.0
PRODID:-//hacksw/handcal//NONSGML v1.0//EN
BEGIN:VEVENT
DTSTART:20250121T180000Z
DTEND:20250121T210000Z
LOCATION:Maison des ESSEC \n11, Avenue de Friedland \n75008 PARIS
ORGANIZER;CN=Mathilde Failler - Wine, Whisky & Spirits:MAILTO:mathilde.failler@essec.edu
SUMMARY:Masterclass & Dégustation de Whisky Français
DESCRIPTION:Chers membres et passionnés de spiritueux,En ce début d’année 2025, le Club Wine, Whisky & Spirits a le plaisir de vous adresser tous ses meilleurs vœux, mais aussi de vous convier à...
URL:https://www.essecalumni.com/en/group/wine-whisky-spirits/31/calendar/masterclass-degustation-de-whisky-francais/2025/01/21/6901
BEGIN:VALARM
TRIGGER:-P0DT1H0M0S
ACTION:DISPLAY
END:VALARM
END:VEVENT
END:VCALENDAR