BEGIN:VCALENDAR
VERSION:2.0
PRODID:-//hacksw/handcal//NONSGML v1.0//EN
BEGIN:VEVENT
DTSTART:20250318T180000Z
DTEND:20250318T203000Z
LOCATION:Maison des ESSEC \n11, Avenue de Friedland \n75008 PARIS
ORGANIZER;CN=Sounya Kiniffo:MAILTO:sounya.kiniffo@essec.edu
SUMMARY:Où sont les femmes ? Représentation et influence des femmes dans les médias - Semaine de la parité ESSEC Alumni
DESCRIPTION:ESSEC Alumni, en collaboration avec le Club ESSEC Women Alumni et le soutien des Clubs ESSEC Transition Alumni, ESSEC Sustainable Business  et le Programme ESSEC Alumni Executive MBA sont fiers de...
URL:https://www.essecalumni.com/en/event/ou-sont-les-femmes-representation-et-influence-des-femmes-dans-les-medias-semaine-de-la-parite-essec-alumni/2025/03/18/6963
BEGIN:VALARM
TRIGGER:-P0DT1H0M0S
ACTION:DISPLAY
END:VALARM
END:VEVENT
END:VCALENDAR