BEGIN:VCALENDAR
VERSION:2.0
PRODID:-//hacksw/handcal//NONSGML v1.0//EN
BEGIN:VEVENT
DTSTART:20250703T173000Z
DTEND:20250703T210000Z
LOCATION:Siège du Boston Consulting Group \n75, Avenue de la Grande Armée \n75016 PARIS
ORGANIZER;CN=Jeanne Métraud - ESSEC Women Alumni:MAILTO:b00808121@essec.edu
SUMMARY:10 years Party EWA Boost’ :tada:
DESCRIPTION:Soirée privée réservée aux Mentors et Mentees.Le Club ESSEC Women Alumni a la joie de vous inviter à une soirée exceptionnelle pour les 10 ans d'EWA Boost'.Depuis 2015, vous avez été près de 3OO...
URL:https://www.essecalumni.com/en/group/essec-women-alumni/59/calendar/10-years-party-ewa-boost-tada/2025/07/03/7028
BEGIN:VALARM
TRIGGER:-P0DT1H0M0S
ACTION:DISPLAY
END:VALARM
END:VEVENT
END:VCALENDAR