BEGIN:VCALENDAR
VERSION:2.0
PRODID:-//hacksw/handcal//NONSGML v1.0//EN
BEGIN:VEVENT
DTSTART:20250322T073000Z
DTEND:20250323T190000Z
LOCATION:Leonard:Paris \n6, Place du Colonel Bourgoin \n75012 PARIS
ORGANIZER;CN=Jeanne Métraud - ESSEC Women Alumni:MAILTO:b00808121@essec.edu
SUMMARY:GEF Startup 2025
DESCRIPTION:Vous êtes une porteuse de projet ou vous voulez être co-équipier(e) le temps d'un week-end ? Inscrivez-vous !Grandes Ecoles au Féminin (GEF) vous propose de participer à la 11ème édition de GEF...
URL:https://www.essecalumni.com/en/group/essec-women-alumni/59/calendar/gef-startup-2025/2025/03/22/7036
BEGIN:VALARM
TRIGGER:-P0DT1H0M0S
ACTION:DISPLAY
END:VALARM
END:VEVENT
END:VCALENDAR