BEGIN:VCALENDAR
VERSION:2.0
PRODID:-//hacksw/handcal//NONSGML v1.0//EN
BEGIN:VEVENT
DTSTART:20250313T180000Z
DTEND:20250313T210000Z
LOCATION:Maison des ESSEC \n11, Avenue de Friedland \n75008 PARIS
ORGANIZER;CN=Jeanne Métraud - ESSEC Women Alumni:MAILTO:b00808121@essec.edu
SUMMARY:Afterwork inter-promos Mentees EWA Boost'
DESCRIPTION:Événement réservé aux Mentees EWA Boost’ Chères toutes, Notre afterwork inter-promos EWA Boost' aura lieu jeudi 13 mars à la Maison des ESSEC. Temps fort de l’année, cet événement est un moment...
URL:https://www.essecalumni.com/en/group/essec-women-alumni/59/calendar/afterwork-inter-promos-mentees-ewa-boost/2025/03/13/7056
BEGIN:VALARM
TRIGGER:-P0DT1H0M0S
ACTION:DISPLAY
END:VALARM
END:VEVENT
END:VCALENDAR