BEGIN:VCALENDAR
VERSION:2.0
PRODID:-//hacksw/handcal//NONSGML v1.0//EN
BEGIN:VEVENT
DTSTART:20250312T113000Z
DTEND:20250312T123000Z
LOCATION:https://us02web.zoom.us/j/3810697601?omn=89488037576
ORGANIZER;CN=Jeanne Métraud - Luxe:MAILTO:b00808121@essec.edu
SUMMARY:[Cycle 1/2]  Webinar ~ The Mystical  Indian Luxury Paradox:  Navigating the Billion-Dollar Opportunity
DESCRIPTION:Dear members, The ESSEC Alumni Luxe and India in France Clubs are pleased to invite you to its next webinar on Wednesday 12 March. \nREGISTRATIONSRegistration is now open via the registration module...
URL:https://www.essecalumni.com/en/group/luxe/58/calendar/-cycle-1-2-webinar-the-mystical-indian-luxury-paradox-navigating-the-billion-dollar-opportunity/2025/03/12/7074
BEGIN:VALARM
TRIGGER:-P0DT1H0M0S
ACTION:DISPLAY
END:VALARM
END:VEVENT
END:VCALENDAR