BEGIN:VCALENDAR
VERSION:2.0
PRODID:-//hacksw/handcal//NONSGML v1.0//EN
BEGIN:VEVENT
DTSTART:20250311T180000Z
DTEND:20250311T200000Z
LOCATION:Climate House Paris Sentier \n39, Rue du Caire \n75002 PARIS
ORGANIZER;CN=Sounya Kiniffo:MAILTO:sounya.kiniffo@essec.edu
SUMMARY:Cycle Métiers et Impact : Travail, Compétences, Santé :  les grands oubliés de la transition écologique ?
DESCRIPTION:Dans le cadre de notre partenariat avec AXA Climate et la Convention des Entreprises pour le Climat (CEC) , ESSEC Alumni a le plaisir de vous convier à une soirée spéciale :👉 Soirée - Travail,...
URL:https://www.essecalumni.com/en/event/cycle-metiers-et-impact-travail-competences-sante-les-grands-oublies-de-la-transition-ecologique/2025/03/11/7101
BEGIN:VALARM
TRIGGER:-P0DT1H0M0S
ACTION:DISPLAY
END:VALARM
END:VEVENT
END:VCALENDAR