BEGIN:VCALENDAR
VERSION:2.0
PRODID:-//hacksw/handcal//NONSGML v1.0//EN
BEGIN:VEVENT
DTSTART:20250521T170000Z
DTEND:20250521T210000Z
LOCATION:Rooftop Mademoiselle Mouche \nPort de la Conférence \n75008 PARIS
ORGANIZER;CN=Jeanne Métraud - Business Angels:MAILTO:b00808121@essec.edu
SUMMARY:Soirée d'été ~ Découverte du Club Business Angels !
DESCRIPTION:Chers alumni, Nous vous convions à une soirée exceptionnelle du Club ESSEC Alumni Business Angels, le mercredi 21 mai à partir de 19h. 💼 Venez découvrir notre double activité : investir et s’investir ...
URL:https://www.essecalumni.com/en/group/business-angels/49/calendar/soiree-d-ete-decouverte-du-club-business-angels/2025/05/21/7163
BEGIN:VALARM
TRIGGER:-P0DT1H0M0S
ACTION:DISPLAY
END:VALARM
END:VEVENT
END:VCALENDAR