BEGIN:VCALENDAR
VERSION:2.0
PRODID:-//hacksw/handcal//NONSGML v1.0//EN
BEGIN:VEVENT
DTSTART:20250702T170000Z
DTEND:20250702T200000Z
LOCATION:Bâtiment \n31, Rue de Fleurus \n75006 PARIS
ORGANIZER;CN=Céline Lévêque - Promotion 1982:MAILTO:celine.leveque@essec.edu
SUMMARY:Pot semestriel de la Promotion E82
DESCRIPTION:Bonjour à tous,Christophe Pothier a la grande gentillesse de nous accueillir à nouveau dans les locaux où il est maintenant installé dans le 6ᵉ arrondissement, 31 rue de Fleurus, pas loin du Jardin du...
URL:https://www.essecalumni.com/en/group/promotion-1982/223/calendar/pot-semestriel-de-la-promotion-e82/2025/07/02/7168
BEGIN:VALARM
TRIGGER:-P0DT1H0M0S
ACTION:DISPLAY
END:VALARM
END:VEVENT
END:VCALENDAR