BEGIN:VCALENDAR
VERSION:2.0
PRODID:-//hacksw/handcal//NONSGML v1.0//EN
BEGIN:VEVENT
DTSTART:20250526T163000Z
DTEND:20250526T193000Z
LOCATION:Maison des ESSEC \n11, Avenue de Friedland \n75008 PARIS
ORGANIZER;CN=Sounya Kiniffo:MAILTO:sounya.kiniffo@essec.edu
SUMMARY:Talk informel ~ Durabilité et profit : deux enjeux inconciliables ?
DESCRIPTION:Chers membres, Les Clubs Sustainable Business et Finance Banque et Assurance, en partenariat avec Oikocredit,  sont heureux de vous inviter à une conférence inédite sur l’un des grands enjeux de la...
URL:https://www.essecalumni.com/en/event/talk-informel-durabilite-et-profit-deux-enjeux-inconciliables/2025/05/26/7323
BEGIN:VALARM
TRIGGER:-P0DT1H0M0S
ACTION:DISPLAY
END:VALARM
END:VEVENT
END:VCALENDAR