BEGIN:VCALENDAR
VERSION:2.0
PRODID:-//hacksw/handcal//NONSGML v1.0//EN
BEGIN:VEVENT
DTSTART:20250612T163000Z
DTEND:20250612T190000Z
LOCATION:Maison des ESSEC \n11, Avenue de Friedland \n75008 PARIS
ORGANIZER;CN=Sounya Kiniffo:MAILTO:sounya.kiniffo@essec.edu
SUMMARY:Talk informel ~ Grande distribution : de l’incantation à l’action pour la  décarbonation du Scope 3 !
DESCRIPTION:Chers membres, Les Clubs Sustainable Business , est heureux de vous inviter à une conférence inédite sur l’un des grands enjeux du retail : Grande distribution : de l’incantation à l’action pour...
URL:https://www.essecalumni.com/en/event/talk-informel-grande-distribution-de-l-incantation-a-l-action-pour-la-decarbonation-du-scope-3/2025/06/12/7358
BEGIN:VALARM
TRIGGER:-P0DT1H0M0S
ACTION:DISPLAY
END:VALARM
END:VEVENT
END:VCALENDAR