BEGIN:VCALENDAR
VERSION:2.0
PRODID:-//hacksw/handcal//NONSGML v1.0//EN
BEGIN:VEVENT
DTSTART:20250526T110000Z
DTEND:20250526T130000Z
LOCATION:Wave \nNo. 4, Alley 8, Keelung Road Sec. 2, Xinyi District
ORGANIZER;CN=Matthieu Colet - Taiwan:MAILTO:matthieu.colet@essec.edu
SUMMARY:ESSEC Dinner in Taipei
DESCRIPTION:Dear ESSEC Alumni,Please come and join us on Monday, May 26, 2025 for a casual dinner.It will be the occasion to review our past activities and get your input for future events.Cost: around 1100 NTD...
URL:https://www.essecalumni.com/en/group/taiwan/271/calendar/essec-dinner-in-taipei/2025/05/26/7369
BEGIN:VALARM
TRIGGER:-P0DT1H0M0S
ACTION:DISPLAY
END:VALARM
END:VEVENT
END:VCALENDAR