BEGIN:VCALENDAR
VERSION:2.0
PRODID:-//hacksw/handcal//NONSGML v1.0//EN
BEGIN:VEVENT
DTSTART:20260702T103000Z
DTEND:20260702T120000Z
LOCATION:
ORGANIZER;CN=ESSEC Alumni:MAILTO:alumni-contact@essec.edu
SUMMARY:Webinaire : Réussir au féminin - Trouver sa voie/voix et bien poser les limites
DESCRIPTION:Trouver sa voie/voix et bien poser les limites\nEn tant que femme, on fait face à des défis spécifiques dans l’environnement professionnel. Les biais de perception d’autrui voire ceux qu’on a intégrés...
URL:https://www.essecalumni.com/en/event/webinaire-reussir-au-feminin-trouver-sa-voie-voix-et-bien-poser-les-limites/2026/07/02/7452
BEGIN:VALARM
TRIGGER:-P0DT1H0M0S
ACTION:DISPLAY
END:VALARM
END:VEVENT
END:VCALENDAR