BEGIN:VCALENDAR
VERSION:2.0
PRODID:-//hacksw/handcal//NONSGML v1.0//EN
BEGIN:VEVENT
DTSTART:20250709T170000Z
DTEND:20250709T200000Z
LOCATION:Les Frères Pinard \n26, Rue des Vieux Murs \n59800 LILLE
ORGANIZER;CN=Jeanne Métraud - Hauts-de-France:MAILTO:b00808121@essec.edu
SUMMARY:Happy Alumni Hour à Lille
DESCRIPTION:Chers membres, Nous vous attendons nombreuses et nombreux pour une soirée conviviale avant l'été le mercredi 09 juillet aux Frères Pinard à partir de 19h. Au programme : rencontres, partage et...
URL:https://www.essecalumni.com/en/group/hauts-de-france/86/calendar/happy-alumni-hour-a-lille/2025/07/09/7524
BEGIN:VALARM
TRIGGER:-P0DT1H0M0S
ACTION:DISPLAY
END:VALARM
END:VEVENT
END:VCALENDAR