BEGIN:VCALENDAR
VERSION:2.0
PRODID:-//hacksw/handcal//NONSGML v1.0//EN
BEGIN:VEVENT
DTSTART:20251007T163000Z
DTEND:20251007T210000Z
LOCATION:KEDGE Business School \n680, Cours de la Libération \n33400 TALENCE
ORGANIZER;CN=Jeanne Métraud - Aquitaine:MAILTO:b00808121@essec.edu
SUMMARY:Soirée Alumni Inter-Écoles : Sport & Communauté, la force du collectif
DESCRIPTION:Chers alumni,\nLes rencontres entre diplômés des grandes écoles reprennent ! 2025 sera la 6ème édition de cette soirée initiée en 2016.Rejoignez les réseaux alumni des grandes écoles de commerce...
URL:https://www.essecalumni.com/en/group/aquitaine/69/calendar/soiree-alumni-inter-ecoles-sport-communaute-la-force-du-collectif/2025/10/07/7590
BEGIN:VALARM
TRIGGER:-P0DT1H0M0S
ACTION:DISPLAY
END:VALARM
END:VEVENT
END:VCALENDAR