BEGIN:VCALENDAR
VERSION:2.0
PRODID:-//hacksw/handcal//NONSGML v1.0//EN
BEGIN:VEVENT
DTSTART:20251002T170000Z
DTEND:20251002T200000Z
LOCATION:Maison de ESSEC \n11, Avenue de Friedland \n75008 PARIS
ORGANIZER;CN=Guragam SINGH - India in France:MAILTO:b00770750@essec.edu
SUMMARY:Keynote Navi Radjou : “Frugal Economy: The Next Frontier in Sustainability" (CANCELLED)
DESCRIPTION:The Club ESSEC Alumni India in France & the Club Sustainable Business are pleased to welcome you on Thursday, October 2, 2025 at 7pm at the Maison des ESSEC (11 avenue de Friedland, 75008 Paris) for a...
URL:https://www.essecalumni.com/en/group/india-in-france/371/calendar/keynote-navi-radjou-frugal-economy-the-next-frontier-in-sustainability-cancelled/2025/10/02/7675
BEGIN:VALARM
TRIGGER:-P0DT1H0M0S
ACTION:DISPLAY
END:VALARM
END:VEVENT
END:VCALENDAR