BEGIN:VCALENDAR
VERSION:2.0
PRODID:-//hacksw/handcal//NONSGML v1.0//EN
BEGIN:VEVENT
DTSTART:20251024T103000Z
DTEND:20251024T133000Z
LOCATION:Terumi the tender bar \n9A Jalan 20/16 Taman Paramount \n46300 Petaling Jaya
ORGANIZER;CN=Florence Zheng - Malaysia / Malaisie:MAILTO:florence.zheng@essec.edu
SUMMARY:ESSEC Deepavali Cocktail Huddle
DESCRIPTION:\nDear ESSEC Alumni,I’m excited to invite you to our upcoming Deepavali Huddle Cocktail this coming October in Petaling Jaya! This will be a wonderful evening for us to:Connect, catch up, and simply...
URL:https://www.essecalumni.com/en/group/malaysia-malaisie/134/calendar/essec-deepavali-cocktail-huddle/2025/10/24/7718
BEGIN:VALARM
TRIGGER:-P0DT1H0M0S
ACTION:DISPLAY
END:VALARM
END:VEVENT
END:VCALENDAR