BEGIN:VCALENDAR
VERSION:2.0
PRODID:-//hacksw/handcal//NONSGML v1.0//EN
BEGIN:VEVENT
DTSTART:20251120T160000Z
DTEND:20251120T220000Z
LOCATION:ESSCA - Campus de Strasbourg  \n23, Rue de la Haye \n67300 SCHILTIGHEIM
ORGANIZER;CN=Céline Lévêque - Alsace:MAILTO:celine.leveque@essec.edu
SUMMARY:Transition Joyeuse : vers un avenir durable & humain
DESCRIPTION:Cher(es) ami(es),Au nom du CGEA – Club des Grandes Écoles d’Alsace - le Club ESSEC Alumni Alsace a le plaisir de vous convier à une expérience exceptionnelle « La transition Joyeuse ». Écoutez et...
URL:https://www.essecalumni.com/en/group/alsace/68/calendar/transition-joyeuse-vers-un-avenir-durable-humain/2025/11/20/7729
BEGIN:VALARM
TRIGGER:-P0DT1H0M0S
ACTION:DISPLAY
END:VALARM
END:VEVENT
END:VCALENDAR