BEGIN:VCALENDAR
VERSION:2.0
PRODID:-//hacksw/handcal//NONSGML v1.0//EN
BEGIN:VEVENT
DTSTART:20260520T170000Z
DTEND:20260520T180000Z
LOCATION:Campus EDHEC, Paris 2e \n16-18, Rue du 4 septembre \n75002 PARIS
ORGANIZER;CN=Mathilde Failler - Culture & Management:MAILTO:mathilde.failler@essec.edu
SUMMARY:Le public aux commandes ? Nouvelles frontières de la participation des publics
DESCRIPTION:Le public aux commandes ? Nouvelles frontières de la participation des publics📅 Mercredi 20 mai à 19h\n📍Campus EDHEC, Paris 2e Visiteur, spectateur, usager… la place du public dans les lieux culturels...
URL:https://www.essecalumni.com/en/group/culture-management/52/calendar/le-public-aux-commandes-nouvelles-frontieres-de-la-participation-des-publics/2026/05/20/7797
BEGIN:VALARM
TRIGGER:-P0DT1H0M0S
ACTION:DISPLAY
END:VALARM
END:VEVENT
END:VCALENDAR