BEGIN:VCALENDAR
VERSION:2.0
PRODID:-//hacksw/handcal//NONSGML v1.0//EN
BEGIN:VEVENT
DTSTART:20260617T170000Z
DTEND:20260617T180000Z
LOCATION:Maison des ESSEC  \n11, Avenue de Friedland \n75008 PARIS
ORGANIZER;CN=Mathilde Failler - Culture & Management:MAILTO:mathilde.failler@essec.edu
SUMMARY:Grand entretien avec une personnalité du secteur culturel
DESCRIPTION:Grand entretien avec une personnalité du secteur culturel📅 Mercredi 17 juin à 19h\n📍Lieu à venirL’an dernier, le Club Culture & Management lançait un tout nouveau format : les Grands Entretiens. Pour ...
URL:https://www.essecalumni.com/en/group/culture-management/52/calendar/grand-entretien-avec-une-personnalite-du-secteur-culturel/2026/06/17/7798
BEGIN:VALARM
TRIGGER:-P0DT1H0M0S
ACTION:DISPLAY
END:VALARM
END:VEVENT
END:VCALENDAR