BEGIN:VCALENDAR
VERSION:2.0
PRODID:-//hacksw/handcal//NONSGML v1.0//EN
BEGIN:VEVENT
DTSTART:20251112T173000Z
DTEND:20251112T213000Z
LOCATION:Théâtre des Salinières \n4, Rue Buhan \n33000 BORDEAUX
ORGANIZER;CN=Jeanne Métraud - Aquitaine:MAILTO:b00808121@essec.edu
SUMMARY:Afterwork & Spectacle Le Porteur d'Histoire - Théâtre des Salinières
DESCRIPTION:Chers alumni,Le Club ESSEC Alumni Aquitaine en collaboration avec l'EM Lyon Alumni ont le plaisir de vous proposer une sortie théâtre le mercredi 12 novembre à 20h45 au Théâtre des Salinières pour...
URL:https://www.essecalumni.com/en/group/aquitaine/69/calendar/afterwork-spectacle-le-porteur-d-histoire-theatre-des-salinieres/2025/11/12/7828
BEGIN:VALARM
TRIGGER:-P0DT1H0M0S
ACTION:DISPLAY
END:VALARM
END:VEVENT
END:VCALENDAR