BEGIN:VCALENDAR
VERSION:2.0
PRODID:-//hacksw/handcal//NONSGML v1.0//EN
BEGIN:VEVENT
DTSTART:20251219T110000Z
DTEND:20251219T123000Z
LOCATION:Musée de l'Orangerie  \nQuai des Tuileries
ORGANIZER;CN=Mathilde Failler - Beaux-Arts:MAILTO:mathilde.failler@essec.edu
SUMMARY:Visite de l’exposition Berthe Weill
DESCRIPTION:Chers membres du Club ESSEC Alumni Beaux-Arts,\nVous êtes conviés à la visite guidée de l’exposition Berthe Weill au Musée de l'Orangerie : 📅 Vendredi 19 décembre\n🕦 À 12h (prévoir d’arriver sur place...
URL:https://www.essecalumni.com/en/group/beaux-arts/32/calendar/visite-de-l-exposition-berthe-weill/2025/12/19/7903
BEGIN:VALARM
TRIGGER:-P0DT1H0M0S
ACTION:DISPLAY
END:VALARM
END:VEVENT
END:VCALENDAR