BEGIN:VCALENDAR
VERSION:2.0
PRODID:-//hacksw/handcal//NONSGML v1.0//EN
BEGIN:VEVENT
DTSTART:20251203T073000Z
DTEND:20251203T084500Z
LOCATION:
ORGANIZER;CN=Florence Zheng:MAILTO:florence.zheng@essec.edu
SUMMARY:Geopolitics of Infrastructures: Soft Power Through Hard Assets
DESCRIPTION:\nDear Sir or Madam,The ESSEC Institute for Geopolitics & Business and the IRENE Center for Negotiation & Mediation are pleased to invite you to our upcoming webinar on the theme: “Geopolitics of...
URL:https://www.essecalumni.com/en/event/geopolitics-of-infrastructures-soft-power-through-hard-assets/2025/12/03/7984
BEGIN:VALARM
TRIGGER:-P0DT1H0M0S
ACTION:DISPLAY
END:VALARM
END:VEVENT
END:VCALENDAR