BEGIN:VCALENDAR
VERSION:2.0
PRODID:-//hacksw/handcal//NONSGML v1.0//EN
BEGIN:VEVENT
DTSTART:20260107T173000Z
DTEND:20260107T210000Z
LOCATION:4PADEL Bordeaux \n9, Rue Dumont d'Urville \n33300 BORDEAUX
ORGANIZER;CN=Jeanne Métraud - Aquitaine:MAILTO:b00808121@essec.edu
SUMMARY:Afterwork Padel : Lancez 2026 en mode sportif !
DESCRIPTION:Chères et chers alumni,Pour débuter 2026 de la meilleure des manières, le Club ESSEC Alumni Aquitaine le plaisir de vous inviter à un moment sportif et convivial autour d’un tournoi de padel, ouvert à...
URL:https://www.essecalumni.com/en/group/aquitaine/69/calendar/afterwork-padel-lancez-2026-en-mode-sportif/2026/01/07/8011
BEGIN:VALARM
TRIGGER:-P0DT1H0M0S
ACTION:DISPLAY
END:VALARM
END:VEVENT
END:VCALENDAR