BEGIN:VCALENDAR
VERSION:2.0
PRODID:-//hacksw/handcal//NONSGML v1.0//EN
BEGIN:VEVENT
DTSTART:20260110T093000Z
DTEND:20260110T110000Z
LOCATION:Musée des Arts décoratifs \n107, Rue de Rivoli \n75001 PARIS
ORGANIZER;CN=Mathilde Failler - Beaux-Arts:MAILTO:mathilde.failler@essec.edu
SUMMARY:Visite de l’exposition "1925 - 2025 - 100 ans d’art déco"
DESCRIPTION:Chers membres du Club ESSEC Alumni Beaux-Arts,\nVous êtes conviés à la visite guidée de l’exposition "1925 - 2025 - 100 ans d’art déco" au Musée des Arts décoratifs, présentée par Anne...
URL:https://www.essecalumni.com/en/group/beaux-arts/32/calendar/visite-de-l-exposition-1925-2025-100-ans-d-art-deco/2026/01/10/8057
BEGIN:VALARM
TRIGGER:-P0DT1H0M0S
ACTION:DISPLAY
END:VALARM
END:VEVENT
END:VCALENDAR