BEGIN:VCALENDAR
VERSION:2.0
PRODID:-//hacksw/handcal//NONSGML v1.0//EN
BEGIN:VEVENT
DTSTART:20260124T101500Z
DTEND:20260124T113000Z
LOCATION:Cité de l’architecture et du Patrimoine \n1, Place du Trocadéro et du 11 Novembre \n75116 PARIS
ORGANIZER;CN=Mathilde Failler - Beaux-Arts:MAILTO:mathilde.failler@essec.edu
SUMMARY:Visite de l’exposition "Paris 1925, l’art déco et ses architectes"
DESCRIPTION:Chers membres du Club ESSEC Alumni Beaux-Arts,\nVous êtes conviés à la visiteguidée de l’exposition "Paris 1925, l’art déco et ses architectes", présentée par Bénédicte Mayer, attachée de conservation...
URL:https://www.essecalumni.com/en/group/beaux-arts/32/calendar/visite-de-l-exposition-paris-1925-l-art-deco-et-ses-architectes/2026/01/24/8058
BEGIN:VALARM
TRIGGER:-P0DT1H0M0S
ACTION:DISPLAY
END:VALARM
END:VEVENT
END:VCALENDAR