BEGIN:VCALENDAR
VERSION:2.0
PRODID:-//hacksw/handcal//NONSGML v1.0//EN
BEGIN:VEVENT
DTSTART:20260326T190000Z
DTEND:20260326T220000Z
LOCATION:Opéra National de Bordeaux - Grand-Théâtre \nPlace de la Comédie \n33000 BORDEAUX
ORGANIZER;CN=Jeanne Métraud - Aquitaine:MAILTO:b00808121@essec.edu
SUMMARY:[COMPLET] Soirée immersive au Grand-Théâtre : le bal de Cuba
DESCRIPTION:Chers alumni,L’Opéra National de Bordeaux organise chaque saison 3 bals dans ses foyers historiques : autant d’occasions de s’initier à la danse avec des danseurs professionnels ou expérimentés, ou de...
URL:https://www.essecalumni.com/en/group/aquitaine/69/calendar/-complet-soiree-immersive-au-grand-theatre-le-bal-de-cuba/2026/03/26/8062
BEGIN:VALARM
TRIGGER:-P0DT1H0M0S
ACTION:DISPLAY
END:VALARM
END:VEVENT
END:VCALENDAR