BEGIN:VCALENDAR
VERSION:2.0
PRODID:-//hacksw/handcal//NONSGML v1.0//EN
BEGIN:VEVENT
DTSTART:20260324T170000Z
DTEND:20260324T190000Z
LOCATION:
ORGANIZER;CN=ESSEC Alumni:MAILTO:alumni-contact@essec.edu
SUMMARY:Atelier pratique de découverte des nouveaux leviers de la vente complexe
DESCRIPTION:Cet atelier s'adresse :Aux Dirigeants, Directeurs généraux et  Directeurs commerciaux  qui souhaitent apporter un nouveau regard et faire progresser les compétences de leurs collaborateurs en...
URL:https://www.essecalumni.com/en/event/atelier-pratique-de-decouverte-des-nouveaux-leviers-de-la-vente-complexe/2026/03/24/8200
BEGIN:VALARM
TRIGGER:-P0DT1H0M0S
ACTION:DISPLAY
END:VALARM
END:VEVENT
END:VCALENDAR