BEGIN:VCALENDAR
VERSION:2.0
PRODID:-//hacksw/handcal//NONSGML v1.0//EN
BEGIN:VEVENT
DTSTART:20260225T173000Z
DTEND:20260225T210000Z
LOCATION:Locomotiv \n4, Cours de l'Intendance \n33000 BORDEAUX
ORGANIZER;CN=Jeanne Métraud - Aquitaine:MAILTO:b00808121@essec.edu
SUMMARY:Et si vous pilotiez votre entreprise en mode Forces Spéciales… ? avec Gilles Duplay (E17)
DESCRIPTION:Cher(e)s membres, Le Club ESSEC Alumni Aquitaine et Locomotiv sont heureux de vous convier à leur prochaine conférence, le mercredi 25 février à 18h30 avec Gilles Duplay (E17), Dirigeant de ARXIBALD...
URL:https://www.essecalumni.com/en/group/aquitaine/69/calendar/et-si-vous-pilotiez-votre-entreprise-en-mode-forces-speciales-avec-gilles-duplay-e17/2026/02/25/8227
BEGIN:VALARM
TRIGGER:-P0DT1H0M0S
ACTION:DISPLAY
END:VALARM
END:VEVENT
END:VCALENDAR